BEGIN:VCALENDAR
VERSION:2.0
PRODID:-//hacksw/handcal//NONSGML v1.0//EN
BEGIN:VEVENT
SUMMARY:13H30 - normale - Valdivienne (Salles en Toulon) - (R) - 2,5€  - GERARD C
UID:a4eed8ae-9615-45de-bac4-b14c8a440448
DTSTART:20261030T230000Z
DTEND:20261031T230000Z
LOCATION:Localisation   
CATEGORIES:Sportif
STATUS:
URL;VALUE=URI:https://www.cheminance86.fr/evenements/2026/10/31/13h30-normale-valdivienne-salles-en-toulon-r-25eur-gerard-c-2431837
END:VEVENT
END:VCALENDAR
